BEGIN:VCALENDAR
VERSION:2.0
PRODID:-//Berufsschulcampus-Unstrut-Hainich - ECPv6.15.20//NONSGML v1.0//EN
CALSCALE:GREGORIAN
METHOD:PUBLISH
X-ORIGINAL-URL:https://bsc-uh.de
X-WR-CALDESC:Veranstaltungen für Berufsschulcampus-Unstrut-Hainich
REFRESH-INTERVAL;VALUE=DURATION:PT1H
X-Robots-Tag:noindex
X-PUBLISHED-TTL:PT1H
BEGIN:VTIMEZONE
TZID:Europe/Berlin
BEGIN:DAYLIGHT
TZOFFSETFROM:+0100
TZOFFSETTO:+0200
TZNAME:CEST
DTSTART:20250330T010000
END:DAYLIGHT
BEGIN:STANDARD
TZOFFSETFROM:+0200
TZOFFSETTO:+0100
TZNAME:CET
DTSTART:20251026T010000
END:STANDARD
BEGIN:DAYLIGHT
TZOFFSETFROM:+0100
TZOFFSETTO:+0200
TZNAME:CEST
DTSTART:20260329T010000
END:DAYLIGHT
BEGIN:STANDARD
TZOFFSETFROM:+0200
TZOFFSETTO:+0100
TZNAME:CET
DTSTART:20261025T010000
END:STANDARD
BEGIN:DAYLIGHT
TZOFFSETFROM:+0100
TZOFFSETTO:+0200
TZNAME:CEST
DTSTART:20270328T010000
END:DAYLIGHT
BEGIN:STANDARD
TZOFFSETFROM:+0200
TZOFFSETTO:+0100
TZNAME:CET
DTSTART:20271031T010000
END:STANDARD
END:VTIMEZONE
BEGIN:VEVENT
DTSTART;TZID=Europe/Berlin:20260307T100000
DTEND;TZID=Europe/Berlin:20260307T130000
DTSTAMP:20260423T133143
CREATED:20260114T122055Z
LAST-MODIFIED:20260209T123326Z
UID:26756-1772877600-1772888400@bsc-uh.de
SUMMARY:TAG DER OFFENEN TÜR - FACHSCHULE FÜR TECHNIK
DESCRIPTION:SIE möchten Ihre beruflichen Chancen verbessern? – WIR bieten die passenden Möglichkeiten dazu! \nDie Fachschule für Technik am Berufsschulcampus Unstrut-Hainich öffnet wieder ihre Türen: \nSamstag l 07.03.26 l 10:00 -13:00 Uhr  \nSondershäuser Landstr. 39 \n99974 Mühlhausen \nGebäude B / Etage 4 (Hochhaus) \nMit der praxisnahen Ausbildung zum/zur „Staatlich geprüften Techniker/in“ oder „Staatlich geprüften Technischen Betriebswirt/in“ erweitern Sie Ihr technisches Fachwissen und erwerben betriebswirtschaftliche Kompetenzen für Ihre berufliche Professionalisierung. \nSeit vielen Jahren bildet die Fachschule für Technik Führungskräfte für Ihre zukünftigen Leitungssaufgaben aus. Durch die enge Vernetzung mit ortsansässigen und umliegenden Betrieben wird eine praxisorientierte Ausbildung gewährleistet. In diesem Zusammenhang werden durch die Fachschule für Technik zahlreiche Zusatzlehrgänge angeboten (z.B. AEVO\, QM\, REFA\, …). \nMit dem anerkannten Abschluss zum/zur „Staatlich geprüften Techniker/in“ oder „Staatlich geprüften Technischen Betriebswirt/in“ investieren Sie in berufliche Sicherheit und profitieren von attraktiven Perspektiven auf dem Arbeitsmarkt. \nMACHEN Sie noch heute den ersten Schritt und SICHERN Sie sich Ihren Arbeitsplatz von morgen: \nwww.bsc-uh.de oder www.fstmhl.de. \n 
URL:https://bsc-uh.de/event/tag-der-offenen-tuer-fachschule-fuer-technik-3/
LOCATION:Mühlhausen\, Sondershäuser Landstraße 39\, Mühlhausen\, Thüringen\, 99974\, Deutschland
END:VEVENT
END:VCALENDAR